BEGIN:VCALENDAR
VERSION:2.0
PRODID:GlueUp
CALSCALE:GREGORIAN
BEGIN:VTIMEZONE
TZID:UTC
BEGIN:STANDARD
DTSTART:19700101T000000
TZOFFSETFROM:+0000
TZOFFSETTO:+0000
TZNAME:UTC
END:STANDARD
END:VTIMEZONE
BEGIN:VEVENT
TZ:+00
ORGANIZER;CN=Veronika Hozakova:MAILTO:vercahozak@gmail.com
UID:41181-1777126593@https://czechchambershanghai.glueup.cn
DTSTAMP:20260425T141633Z
DTSTART:20230810T110000Z
DTEND:20230810T150000Z
SUMMARY:Happy Hour with Czechcham
DESCRIPTION:Happy Hour with Czechcham by Czech Chamber of Commerce in Shanghai\n\nAug 10, 2023 (7:00 PM - 11:00 PM)(GMT+8)\n\nFor more information, click here: https://czechchambershanghai.glueup.cn/my/events/41181
LOCATION:昨天今天明天 Time Passage - 上海市长宁区华山路1038弄173-2 上海 - China
BEGIN:VALARM
TRIGGER:-PT48H
REPEAT:4
DURATION:PT30M
ACTION:DISPLAY
END:VALARM
END:VEVENT
END:VCALENDAR