BEGIN:VCALENDAR
VERSION:2.0
PRODID:GlueUp
CALSCALE:GREGORIAN
BEGIN:VTIMEZONE
TZID:UTC
BEGIN:STANDARD
DTSTART:19700101T000000
TZOFFSETFROM:+0000
TZOFFSETTO:+0000
TZNAME:UTC
END:STANDARD
END:VTIMEZONE
BEGIN:VEVENT
TZ:+00
ORGANIZER;CN=Iva Beznosková:MAILTO:iva@czechchamber.com.cn
UID:40277-1777126573@https://czechchambershanghai.glueup.cn
DTSTAMP:20260425T141613Z
DTSTART:20230510T110000Z
DTEND:20230510T140000Z
SUMMARY:Happy Hour with CzechCham
DESCRIPTION:Happy Hour with CzechCham by Czech Chamber of Commerce in Shanghai\n\nMay 10, 2023 (7:00 PM - 10:00 PM)(GMT+8)\n\nFor more information, click here: https://czechchambershanghai.glueup.cn/my/events/40277
LOCATION:Gin & Juice - Shangkangli - 358 Kangding Lu (康定路358号) Shanghai - China
BEGIN:VALARM
TRIGGER:-PT48H
REPEAT:4
DURATION:PT30M
ACTION:DISPLAY
END:VALARM
END:VEVENT
END:VCALENDAR