BEGIN:VCALENDAR
VERSION:2.0
PRODID:GlueUp
CALSCALE:GREGORIAN
BEGIN:VTIMEZONE
TZID:UTC
BEGIN:STANDARD
DTSTART:19700101T000000
TZOFFSETFROM:+0000
TZOFFSETTO:+0000
TZNAME:UTC
END:STANDARD
END:VTIMEZONE
BEGIN:VEVENT
TZ:+00
ORGANIZER;CN=Tomas Kucera:MAILTO:tomas.kucera@czechchamber.com.cn
UID:43149-1777126788@https://czechchambershanghai.glueup.cn
DTSTAMP:20260425T141948Z
DTSTART:20240313T110000Z
DTEND:20240313T140000Z
SUMMARY:CzechCham March 13th Happy Hour at GrandYard
DESCRIPTION:CzechCham March 13th Happy Hour at GrandYard by Czech Chamber of Commerce in Shanghai\n\nMar 13, 2024 (7:00 PM - 10:00 PM)(GMT+8)\n\nFor more information, click here: https://czechchambershanghai.glueup.cn/my/events/43149
LOCATION:Grand Yard - 608 Xikang Lu (西康路608号) Shanghai - China
BEGIN:VALARM
TRIGGER:-PT48H
REPEAT:4
DURATION:PT30M
ACTION:DISPLAY
END:VALARM
END:VEVENT
END:VCALENDAR