BEGIN:VCALENDAR
VERSION:2.0
PRODID:GlueUp
CALSCALE:GREGORIAN
BEGIN:VTIMEZONE
TZID:UTC
BEGIN:STANDARD
DTSTART:19700101T000000
TZOFFSETFROM:+0000
TZOFFSETTO:+0000
TZNAME:UTC
END:STANDARD
END:VTIMEZONE
BEGIN:VEVENT
TZ:+00
ORGANIZER;CN=Veronika Hozakova:MAILTO:vercahozak@gmail.com
UID:42400-1777126692@https://czechchambershanghai.glueup.cn
DTSTAMP:20260425T141812Z
DTSTART:20231213T110000Z
DTEND:20231213T150000Z
SUMMARY:Christmas Happy Hour December
DESCRIPTION:Christmas Happy Hour December by Czech Chamber of Commerce in Shanghai\n\nDec 13, 2023 (7:00 PM - 11:00 PM)(GMT+8)\n\nFor more information, click here: https://czechchambershanghai.glueup.cn/my/events/42400
LOCATION:Grand Yard - 608 Xikang Lu (西康路608号) Shanghai - China
BEGIN:VALARM
TRIGGER:-PT48H
REPEAT:4
DURATION:PT30M
ACTION:DISPLAY
END:VALARM
END:VEVENT
END:VCALENDAR