BEGIN:VCALENDAR
VERSION:2.0
PRODID:GlueUp
CALSCALE:GREGORIAN
BEGIN:VTIMEZONE
TZID:UTC
BEGIN:STANDARD
DTSTART:19700101T000000
TZOFFSETFROM:+0000
TZOFFSETTO:+0000
TZNAME:UTC
END:STANDARD
END:VTIMEZONE
BEGIN:VEVENT
TZ:+00
ORGANIZER;CN=Iva Beznosková:MAILTO:iva@czechchamber.com.cn
UID:35480-1777114586@https://czechchambershanghai.glueup.cn
DTSTAMP:20260425T105626Z
DTSTART:20220222T110000Z
DTEND:20220222T130000Z
SUMMARY:China Personal Tax
DESCRIPTION:China Personal Tax by Czech Chamber of Commerce in Shanghai\n\nFeb 22, 2022 (7:00 PM - 9:00 PM)(GMT+8)\n\nFor more information, click here: https://czechchambershanghai.glueup.cn/my/events/35480
LOCATION:OCL Plaza - OCL Plaza - No. 841 - Middle Yan An Road - 3F - 上海市延安中路841号东方海外大厦3F - 200040 Shanghai - China
BEGIN:VALARM
TRIGGER:-PT48H
REPEAT:4
DURATION:PT30M
ACTION:DISPLAY
END:VALARM
END:VEVENT
END:VCALENDAR