BEGIN:VCALENDAR
VERSION:2.0
PRODID:GlueUp
CALSCALE:GREGORIAN
BEGIN:VTIMEZONE
TZID:UTC
BEGIN:STANDARD
DTSTART:19700101T000000
TZOFFSETFROM:+0000
TZOFFSETTO:+0000
TZNAME:UTC
END:STANDARD
END:VTIMEZONE
BEGIN:VEVENT
TZ:+00
ORGANIZER;CN=Tomas Kucera:MAILTO:tomas.kucera@czechchamber.com.cn
UID:44836-1777126605@https://czechchambershanghai.glueup.cn
DTSTAMP:20260425T141645Z
DTSTART:20240815T110000Z
DTEND:20240815T140000Z
SUMMARY:August 15th Happy Hour with CzechCham
DESCRIPTION:August 15th Happy Hour with CzechCham by Czech Chamber of Commerce in Shanghai\n\nAug 15, 2024 (7:00 PM - 10:00 PM)(GMT+8)\n\nFor more information, click here: https://czechchambershanghai.glueup.cn/my/events/44836
LOCATION:The Shed Sports Bar - 698 Shaanxi Bei Lu - near Kangding Lu - 陕西北路698号，靠近康定路 Shanghai - China
BEGIN:VALARM
TRIGGER:-PT48H
REPEAT:4
DURATION:PT30M
ACTION:DISPLAY
END:VALARM
END:VEVENT
END:VCALENDAR